BEGIN:VCALENDAR
VERSION:2.0
PRODID:Events Booking
BEGIN:VEVENT
UID:69e7390e444e3
SUMMARY:Verbandsrunde (9)
DESCRIPTION:Ettlingen 2 - SCV 3
 SCV 4 - Heidelberg 2
 SCV 5 - VLK Lamper
 theim
 Reilingen 4 - SCV 6
DTSTART:20260510T080000Z
DTEND:20260510T140000Z
DTSTAMP:20250816T184550Z
ORGANIZER;CN=Schachclub Viernheim 1934 e.V.:MAILTO:scv_info@schachclub-vier
 nheim.de
END:VEVENT
END:VCALENDAR