BEGIN:VCALENDAR
VERSION:2.0
PRODID:Events Booking
BEGIN:VEVENT
UID:69e81f1c49a0c
SUMMARY:Quarantäne-Liga
DESCRIPTION:
LOCATION:https://lichess.org
DTSTART:20201213T190000Z
DTSTAMP:20260422T010636Z
ORGANIZER;CN=Schachclub Viernheim 1934 e.V.:MAILTO:scv_info@schachclub-vier
 nheim.de
END:VEVENT
END:VCALENDAR