BEGIN:VCALENDAR
VERSION:2.0
PRODID:Events Booking
BEGIN:VEVENT
UID:69e73834d0f96
SUMMARY:Kein Clubabend (hessische Schulferien)
DESCRIPTION:
DTSTART:20190809T170000Z
DTEND:20190809T210000Z
DTSTAMP:20260421T084124Z
ORGANIZER;CN=Schachclub Viernheim 1934 e.V.:MAILTO:scv_info@schachclub-vier
 nheim.de
END:VEVENT
END:VCALENDAR