BEGIN:VCALENDAR
VERSION:2.0
PRODID:Events Booking
BEGIN:VEVENT
UID:69e727388d976
SUMMARY:Turnier in Franconville (Partnerverein)
DESCRIPTION:
DTSTART:20230923T220000Z
DTSTAMP:20221223T095437Z
ORGANIZER;CN=Schachclub Viernheim 1934 e.V.:MAILTO:scv_info@schachclub-vier
 nheim.de
END:VEVENT
END:VCALENDAR