BEGIN:VCALENDAR
VERSION:2.0
PRODID:Events Booking
BEGIN:VEVENT
UID:69e67a4b15b06
SUMMARY:Offenes Jugend-Turnier des Schachclub Viernheim
DESCRIPTION:
DTSTART:20230714T220000Z
DTSTAMP:20221212T160502Z
ORGANIZER;CN=Schachclub Viernheim 1934 e.V.:MAILTO:scv_info@schachclub-vier
 nheim.de
END:VEVENT
END:VCALENDAR