BEGIN:VCALENDAR
VERSION:2.0
PRODID:Events Booking
BEGIN:VEVENT
UID:69e782240b6e2
SUMMARY:Deutscher 4er-Pokal Zwischenrunde 1 (Bad Königshofen)
DESCRIPTION:
DTSTART:20260306T230000Z
DTSTAMP:20220909T114452Z
ORGANIZER;CN=Schachclub Viernheim 1934 e.V.:MAILTO:scv_info@schachclub-vier
 nheim.de
END:VEVENT
END:VCALENDAR