BEGIN:VCALENDAR
VERSION:2.0
PRODID:Events Booking
BEGIN:VEVENT
UID:69e5dafc73c30
SUMMARY:4er-Pokal Finalrunde (in Horben)
DESCRIPTION:
DTSTART:20210926T090000Z
DTSTAMP:20260420T075124Z
ORGANIZER;CN=Schachclub Viernheim 1934 e.V.:MAILTO:scv_info@schachclub-vier
 nheim.de
END:VEVENT
END:VCALENDAR